BEGIN:VCALENDAR
VERSION:2.0
PRODID:-//CENTURY 21 Judge Fite - ECPv6.15.17//NONSGML v1.0//EN
CALSCALE:GREGORIAN
METHOD:PUBLISH
X-ORIGINAL-URL:https://staging.century21judgefite.com
X-WR-CALDESC:Events for CENTURY 21 Judge Fite
REFRESH-INTERVAL;VALUE=DURATION:PT1H
X-Robots-Tag:noindex
X-PUBLISHED-TTL:PT1H
BEGIN:VTIMEZONE
TZID:America/Chicago
BEGIN:DAYLIGHT
TZOFFSETFROM:-0600
TZOFFSETTO:-0500
TZNAME:CDT
DTSTART:20190310T080000
END:DAYLIGHT
BEGIN:STANDARD
TZOFFSETFROM:-0500
TZOFFSETTO:-0600
TZNAME:CST
DTSTART:20191103T070000
END:STANDARD
BEGIN:DAYLIGHT
TZOFFSETFROM:-0600
TZOFFSETTO:-0500
TZNAME:CDT
DTSTART:20200308T080000
END:DAYLIGHT
BEGIN:STANDARD
TZOFFSETFROM:-0500
TZOFFSETTO:-0600
TZNAME:CST
DTSTART:20201101T070000
END:STANDARD
BEGIN:DAYLIGHT
TZOFFSETFROM:-0600
TZOFFSETTO:-0500
TZNAME:CDT
DTSTART:20210314T080000
END:DAYLIGHT
BEGIN:STANDARD
TZOFFSETFROM:-0500
TZOFFSETTO:-0600
TZNAME:CST
DTSTART:20211107T070000
END:STANDARD
BEGIN:DAYLIGHT
TZOFFSETFROM:-0600
TZOFFSETTO:-0500
TZNAME:CDT
DTSTART:20220313T080000
END:DAYLIGHT
BEGIN:STANDARD
TZOFFSETFROM:-0500
TZOFFSETTO:-0600
TZNAME:CST
DTSTART:20221106T070000
END:STANDARD
END:VTIMEZONE
BEGIN:VEVENT
DTSTART;TZID=America/Chicago:20211207T180000
DTEND;TZID=America/Chicago:20211207T190000
DTSTAMP:20260421T200540
CREATED:20211123T160502Z
LAST-MODIFIED:20211129T170053Z
UID:10000061-1638900000-1638903600@staging.century21judgefite.com
SUMMARY:Virtual Career Event - December 7
DESCRIPTION:It’s time to #JoinTheRelentless at CENTURY 21 Judge Fite Company. Attend our upcoming Virtual Career Event on Tuesday\, December 7 and learn why we’re not only dedicated to providing you award-winning training and individualized support\, but cultivating a work environment to help your business grow and thrive in 2021. \nPlease RSVP for our free\, no-obligation Virtual Career Event through the Zoom link. \nDiscussion Topics Include: \n\nHow much money can you earn?\nWhy do our real estate professionals choose us?\nHow much money is needed to start & how to get started?\nLarge office vs small office?\nPart time vs Full time?\nWhy our Success Training breaks national statistics\nHow our Pathway to Mastery Program produces results for all agents\nDetails on our online lead generation\nNetwork with Regional Sales Managers from local offices\nMentorship opportunities
URL:https://staging.century21judgefite.com/event/virtual-career-event-december-7/
CATEGORIES:Career Events
ATTACH;FMTTYPE=image/jpeg:https://staging.century21judgefite.com/wp-content/uploads/2021/11/JFC_CareerEvent_WebsiteGraphics_2021_12-07-scaled.jpg
END:VEVENT
BEGIN:VEVENT
DTSTART;TZID=America/Chicago:20211102T180000
DTEND;TZID=America/Chicago:20211102T190000
DTSTAMP:20260421T200540
CREATED:20211019T181553Z
LAST-MODIFIED:20211019T181553Z
UID:10000060-1635876000-1635879600@staging.century21judgefite.com
SUMMARY:Virtual Career Event - November 2
DESCRIPTION:It’s time to #JoinTheRelentless at CENTURY 21 Judge Fite Company. Attend our upcoming Virtual Career Event on Tuesday\, November 2 and learn why we’re not only dedicated to providing you award-winning training and individualized support\, but cultivating a work environment to help your business grow and thrive in 2021. \nPlease RSVP for our free\, no-obligation Virtual Career Event through the Zoom link. \nDiscussion Topics Include: \n\nHow much money can you earn?\nWhy do our real estate professionals choose us?\nHow much money is needed to start & how to get started?\nLarge office vs small office?\nPart time vs Full time?\nWhy our Success Training breaks national statistics\nHow our Pathway to Mastery Program produces results for all agents\nDetails on our online lead generation\nNetwork with Regional Sales Managers from local offices\nMentorship opportunities
URL:https://staging.century21judgefite.com/event/virtual-career-event-november-2/
CATEGORIES:Career Events
ATTACH;FMTTYPE=image/jpeg:https://staging.century21judgefite.com/wp-content/uploads/2021/10/JFC_CareerEvent_WebsiteGraphics_2021_11-02-13-scaled.jpg
ORGANIZER;CN="Bill Steddum":MAILTO:billsteddum@judgefite.com
END:VEVENT
BEGIN:VEVENT
DTSTART;TZID=America/Chicago:20211009T090000
DTEND;TZID=America/Chicago:20211009T100000
DTSTAMP:20260421T200540
CREATED:20210924T192655Z
LAST-MODIFIED:20210924T192655Z
UID:10000059-1633770000-1633773600@staging.century21judgefite.com
SUMMARY:Virtual Career Event - October 9
DESCRIPTION:It’s time to #JoinTheRelentless at CENTURY 21 Judge Fite Company. Attend our upcoming Virtual Career Event on Saturday\, October 9 and learn why we’re not only dedicated to providing you award-winning training and individualized support\, but cultivating a work environment to help your business grow and thrive in 2021. \nPlease RSVP for our free\, no-obligation Virtual Career Event through the Zoom link. \nDiscussion Topics Include: \n\nHow much money can you earn?\nWhy do our real estate professionals choose us?\nHow much money is needed to start & how to get started?\nLarge office vs small office?\nPart time vs Full time?\nWhy our Success Training breaks national statistics\nHow our Pathway to Mastery Program produces results for all agents\nDetails on our online lead generation\nNetwork with Regional Sales Managers from local offices\nMentorship opportunities
URL:https://staging.century21judgefite.com/event/virtual-career-event-october-9/
CATEGORIES:Career Events
ATTACH;FMTTYPE=image/jpeg:https://staging.century21judgefite.com/wp-content/uploads/2021/09/JFC_CareerEvent_WebsiteGraphics_2021-12-scaled.jpg
ORGANIZER;CN="Bill Steddum":MAILTO:billsteddum@judgefite.com
END:VEVENT
BEGIN:VEVENT
DTSTART;TZID=America/Chicago:20210914T180000
DTEND;TZID=America/Chicago:20210914T190000
DTSTAMP:20260421T200540
CREATED:20210831T172016Z
LAST-MODIFIED:20210831T172016Z
UID:10000058-1631642400-1631646000@staging.century21judgefite.com
SUMMARY:Virtual Career Event - September 14
DESCRIPTION:It’s time to #JoinTheRelentless at CENTURY 21 Judge Fite Company. Attend our upcoming Virtual Career Event on Tuesday\, September 14 and learn why we’re not only dedicated to providing you award-winning training and individualized support\, but cultivating a work environment to help your business grow and thrive in 2021. \nPlease RSVP for our free\, no-obligation Virtual Career Event through the Zoom link. \nDiscussion Topics Include: \n\nHow much money can you earn?\nWhy do our real estate professionals choose us?\nHow much money is needed to start & how to get started?\nLarge office vs small office?\nPart time vs Full time?\nWhy our Success Training breaks national statistics\nHow our Pathway to Mastery Program produces results for all agents\nDetails on our online lead generation\nNetwork with Regional Sales Managers from local offices\nMentorship opportunities
URL:https://staging.century21judgefite.com/event/virtual-career-event-september-14/
CATEGORIES:Career Events
ATTACH;FMTTYPE=image/jpeg:https://staging.century21judgefite.com/wp-content/uploads/2021/08/JFC_CareerEvent_WebsiteGraphics_2021_09-14-11-scaled.jpg
ORGANIZER;CN="Bill Steddum":MAILTO:billsteddum@judgefite.com
END:VEVENT
BEGIN:VEVENT
DTSTART;TZID=America/Chicago:20210817T180000
DTEND;TZID=America/Chicago:20210817T190000
DTSTAMP:20260421T200540
CREATED:20210803T192339Z
LAST-MODIFIED:20210803T192339Z
UID:10000057-1629223200-1629226800@staging.century21judgefite.com
SUMMARY:Virtual Career Event - August 17
DESCRIPTION:It’s time to #JoinTheRelentless at CENTURY 21 Judge Fite Company. Attend our upcoming Virtual Career Event on Tuesday\, August 17 and learn why we’re not only dedicated to providing you award-winning training and individualized support\, but cultivating a work environment to help your business grow and thrive in 2021. \nPlease RSVP for our free\, no-obligation Virtual Career Event through the Zoom link. \nDiscussion Topics Include: \n\nHow much money can you earn?\nWhy do our real estate professionals choose us?\nHow much money is needed to start & how to get started?\nLarge office vs small office?\nPart time vs Full time?\nWhy our Success Training breaks national statistics\nHow our Pathway to Mastery Program produces results for all agents\nDetails on our online lead generation\nNetwork with Regional Sales Managers from local offices\nMentorship opportunities
URL:https://staging.century21judgefite.com/event/virtual-career-event-august-17/
CATEGORIES:Career Events
ATTACH;FMTTYPE=image/jpeg:https://staging.century21judgefite.com/wp-content/uploads/2021/08/JFC_CareerEvent_WebsiteGraphics_2021-10-scaled.jpg
ORGANIZER;CN="Bill Steddum":MAILTO:billsteddum@judgefite.com
END:VEVENT
BEGIN:VEVENT
DTSTART;TZID=America/Chicago:20210724T090000
DTEND;TZID=America/Chicago:20210724T100000
DTSTAMP:20260421T200540
CREATED:20210710T005706Z
LAST-MODIFIED:20210710T005706Z
UID:10000055-1627117200-1627120800@staging.century21judgefite.com
SUMMARY:Virtual Career Event - July 24
DESCRIPTION:It’s time to #JoinTheRelentless at CENTURY 21 Judge Fite Company. Attend our upcoming Virtual Career Event on Saturday\, July 24 and learn why we’re not only dedicated to providing you award-winning training and individualized support\, but cultivating a work environment to help your business grow and thrive in 2021. \nPlease RSVP for our free\, no-obligation Virtual Career Event through the Zoom link. \nDiscussion Topics Include: \n\nHow much money can you earn?\nWhy do our real estate professionals choose us?\nHow much money is needed to start & how to get started?\nLarge office vs small office?\nPart time vs Full time?\nWhy our Success Training breaks national statistics\nHow our Pathway to Mastery Program produces results for all agents\nDetails on our online lead generation\nNetwork with Regional Sales Managers from local offices\nMentorship opportunities
URL:https://staging.century21judgefite.com/event/virtual-career-event-july-24/
CATEGORIES:Career Events
ATTACH;FMTTYPE=image/jpeg:https://staging.century21judgefite.com/wp-content/uploads/2021/07/JFC_CareerEvent_WebsiteGraphics_2021_07-24-scaled.jpg
ORGANIZER;CN="Bill Steddum":MAILTO:billsteddum@judgefite.com
END:VEVENT
BEGIN:VEVENT
DTSTART;TZID=America/Chicago:20210629T180000
DTEND;TZID=America/Chicago:20210629T190000
DTSTAMP:20260421T200540
CREATED:20210615T215135Z
LAST-MODIFIED:20210615T215149Z
UID:10000054-1624989600-1624993200@staging.century21judgefite.com
SUMMARY:Virtual Career Event - June 29
DESCRIPTION:It’s time to #JoinTheRelentless at CENTURY 21 Judge Fite Company. Attend our upcoming Virtual Career Event on Tuesday\, June 29 and learn why we’re not only dedicated to providing you award-winning training and individualized support\, but cultivating a work environment to help your business grow and thrive in 2021. \nPlease RSVP for our free\, no-obligation Virtual Career Event through the Zoom link. \nDiscussion Topics Include: \n\nHow much money can you earn?\nWhy do our real estate professionals choose us?\nHow much money is needed to start & how to get started?\nLarge office vs small office?\nPart time vs Full time?\nWhy our Success Training breaks national statistics\nHow our Pathway to Mastery Program produces results for all agents\nDetails on our online lead generation\nNetwork with Regional Sales Managers from local offices\nMentorship opportunities
URL:https://staging.century21judgefite.com/event/virtual-career-event-june-29/
CATEGORIES:Career Events
ATTACH;FMTTYPE=image/jpeg:https://staging.century21judgefite.com/wp-content/uploads/2021/06/JFC_CareerEvent_WebsiteGraphics_2021_08-29-08-scaled.jpg
ORGANIZER;CN="Bill Steddum":MAILTO:billsteddum@judgefite.com
END:VEVENT
BEGIN:VEVENT
DTSTART;TZID=America/Chicago:20210608T180000
DTEND;TZID=America/Chicago:20210608T190000
DTSTAMP:20260421T200540
CREATED:20210526T223159Z
LAST-MODIFIED:20210526T223159Z
UID:10000053-1623175200-1623178800@staging.century21judgefite.com
SUMMARY:Virtual Career Event - June 8
DESCRIPTION:It’s time to #JoinTheRelentless at CENTURY 21 Judge Fite Company. Attend our upcoming Virtual Career Event on Tuesday\, June 8 and learn why we’re not only dedicated to providing you award-winning training and individualized support\, but cultivating a work environment to help your business grow and thrive in 2021. \nPlease RSVP for our free\, no-obligation Virtual Career Event through the Zoom link. \nDiscussion Topics Include: \n\nHow much money can you earn?\nWhy do our real estate professional choose us?\nHow much money is needed to start & how to get started?\nLarge office vs small office?\nPart time vs Full time?\nWhy our Success Training breaks national statistics\nHow our Pathway to Mastery Program produces results for all agents\nDetails on our online lead generation\nNetwork with Regional Sales Managers from local offices\nMentorship opportunities
URL:https://staging.century21judgefite.com/event/virtual-career-event-june-8/
CATEGORIES:Career Events
ATTACH;FMTTYPE=image/jpeg:https://staging.century21judgefite.com/wp-content/uploads/2021/05/JFC_CareerEvent_WebsiteGraphics_2021-07-scaled.jpg
ORGANIZER;CN="Bill Steddum":MAILTO:billsteddum@judgefite.com
END:VEVENT
BEGIN:VEVENT
DTSTART;TZID=America/Chicago:20210518T180000
DTEND;TZID=America/Chicago:20210518T190000
DTSTAMP:20260421T200540
CREATED:20210504T202150Z
LAST-MODIFIED:20210504T202150Z
UID:10000052-1621360800-1621364400@staging.century21judgefite.com
SUMMARY:Virtual Career Event - May 18
DESCRIPTION:It’s time to #JoinTheRelentless at CENTURY 21 Judge Fite Company. Attend our upcoming Virtual Career Event on Tuesday\, May 18 and learn why we’re not only dedicated to providing you award-winning training and individualized support\, but cultivating a work environment to help your business grow and thrive in 2021. \nPlease RSVP for our free\, no-obligation Virtual Career Event through the Zoom link. \nDiscussion Topics Include: \n\nHow much money can you earn?\nWhy do our real estate professional choose us?\nHow much money is needed to start & how to get started?\nLarge office vs small office?\nPart time vs Full time?\nWhy our Success Training breaks national statistics\nHow our Pathway to Mastery Program produces results for all agents\nDetails on our online lead generation\nNetwork with Regional Sales Managers from local offices\nMentorship opportunities
URL:https://staging.century21judgefite.com/event/virtual-career-event-may-18/
CATEGORIES:Career Events
ATTACH;FMTTYPE=image/jpeg:https://staging.century21judgefite.com/wp-content/uploads/2021/05/JFC_CareerEvent_WebsiteGraphics_2021_05-18-06-scaled.jpg
ORGANIZER;CN="Bill Steddum":MAILTO:billsteddum@judgefite.com
END:VEVENT
BEGIN:VEVENT
DTSTART;TZID=America/Chicago:20210424T090000
DTEND;TZID=America/Chicago:20210424T100000
DTSTAMP:20260421T200540
CREATED:20210409T204602Z
LAST-MODIFIED:20210409T204602Z
UID:10000051-1619254800-1619258400@staging.century21judgefite.com
SUMMARY:Virtual Career Event - April 24
DESCRIPTION:It’s time to #JoinTheRelentless at CENTURY 21 Judge Fite Company. Attend our upcoming Virtual Career Event on Saturday\, April 24 and learn why we’re not only dedicated to providing you award-winning training and individualized support\, but cultivating a work environment to help your business grow and thrive in 2021. \nPlease RSVP for our free\, no-obligation Virtual Career Event through the Zoom link. \nDiscussion Topics Include: \n\nHow much money can you earn?\nWhy do our real estate professional choose us?\nHow much money is needed to start & how to get started?\nLarge office vs small office?\nPart time vs Full time?\nWhy our Success Training breaks national statistics\nHow our Pathway to Mastery Program produces results for all agents\nDetails on our online lead generation\nNetwork with Regional Sales Managers from local offices\nMentorship opportunities
URL:https://staging.century21judgefite.com/event/virtual-career-event-april-24/
CATEGORIES:Career Events
ATTACH;FMTTYPE=image/jpeg:https://staging.century21judgefite.com/wp-content/uploads/2021/04/JFC_CareerEvent_WebsiteGraphics_2021_04-24-05-scaled.jpg
ORGANIZER;CN="Bill Steddum":MAILTO:billsteddum@judgefite.com
END:VEVENT
BEGIN:VEVENT
DTSTART;TZID=America/Chicago:20210330T180000
DTEND;TZID=America/Chicago:20210330T190000
DTSTAMP:20260421T200540
CREATED:20210316T194452Z
LAST-MODIFIED:20210316T194452Z
UID:10000050-1617127200-1617130800@staging.century21judgefite.com
SUMMARY:Virtual Career Event - March 30
DESCRIPTION:It’s time to #JoinTheRelentless at CENTURY 21 Judge Fite Company. Attend our upcoming Virtual Career Event on Tuesday\, March 30 and learn why we’re not only dedicated to providing you award-winning training and individualized support\, but cultivating a work environment to help your business grow and thrive in 2021. \nPlease RSVP for our free\, no-obligation Virtual Career Event through the Zoom link. \nDiscussion Topics Include: \n\nHow much money can you earn?\nWhy do our real estate professional choose us?\nHow much money is needed to start & how to get started?\nLarge office vs small office?\nPart time vs Full time?\nWhy our Success Training breaks national statistics\nHow our Pathway to Mastery Program produces results for all agents\nDetails on our online lead generation\nNetwork with Regional Sales Managers from local offices\nMentorship opportunities
URL:https://staging.century21judgefite.com/event/virtual-career-event-march-30/
CATEGORIES:Career Events
ATTACH;FMTTYPE=image/jpeg:https://staging.century21judgefite.com/wp-content/uploads/2021/03/JFC_CareerEvent_WebsiteGraphics_2021_03-30-04-scaled.jpg
ORGANIZER;CN="Bill Steddum":MAILTO:billsteddum@judgefite.com
END:VEVENT
BEGIN:VEVENT
DTSTART;TZID=America/Chicago:20210302T180000
DTEND;TZID=America/Chicago:20210302T190000
DTSTAMP:20260421T200540
CREATED:20210216T192033Z
LAST-MODIFIED:20210216T192033Z
UID:10000049-1614708000-1614711600@staging.century21judgefite.com
SUMMARY:Virtual Career Event - March 2
DESCRIPTION:It’s time to #JoinTheRelentless at CENTURY 21 Judge Fite Company. Attend our upcoming Virtual Career Event on Tuesday\, March 2 and learn why we’re not only dedicated to providing you award-winning training and individualized support\, but cultivating a work environment to help your business grow and thrive in 2021. \nPlease RSVP for our free\, no-obligation Virtual Career Event through the Zoom link. \nDiscussion Topics Include: \n\nHow much money can you earn?\nWhy do our real estate professional choose us?\nHow much money is needed to start & how to get started?\nLarge office vs small office?\nPart time vs Full time?\nWhy our Success Training breaks national statistics\nHow our Pathway to Mastery Program produces results for all agents\nDetails on our online lead generation\nNetwork with Regional Sales Managers from local offices\nMentorship opportunities
URL:https://staging.century21judgefite.com/event/virtual-career-event-march-2/
CATEGORIES:Career Events
ATTACH;FMTTYPE=image/jpeg:https://staging.century21judgefite.com/wp-content/uploads/2021/02/JFC_CareerEvent_WebsiteGraphics_2021_03-02-scaled.jpg
ORGANIZER;CN="Bill Steddum":MAILTO:billsteddum@judgefite.com
END:VEVENT
BEGIN:VEVENT
DTSTART;TZID=America/Chicago:20210206T090000
DTEND;TZID=America/Chicago:20210206T100000
DTSTAMP:20260421T200540
CREATED:20210122T173950Z
LAST-MODIFIED:20210122T173950Z
UID:10000048-1612602000-1612605600@staging.century21judgefite.com
SUMMARY:Virtual Career Event - February 06
DESCRIPTION:It’s time to #JoinTheRelentless at CENTURY 21 Judge Fite Company. Attend our upcoming Virtual Career Event on Saturday\, February 06 and learn why we’re not only dedicated to providing you award-winning training and individualized support\, but cultivating a work environment to help your business grow and thrive in 2021. \nPlease RSVP for our free\, no-obligation Virtual Career Event through the Zoom link. \nDiscussion Topics Include: \n\nHow much money can you earn?\nWhy do our real estate professional choose us?\nHow much money is needed to start & how to get started?\nLarge office vs small office?\nPart time vs Full time?\nWhy our Success Training breaks national statistics\nHow our Pathway to Mastery Program produces results for all agents\nDetails on our online lead generation\nNetwork with Regional Sales Managers from local offices\nMentorship opportunities
URL:https://staging.century21judgefite.com/event/virtual-career-event-february-06/
CATEGORIES:Career Events
ATTACH;FMTTYPE=image/jpeg:https://staging.century21judgefite.com/wp-content/uploads/2021/01/JFC_CareerEvent_WebsiteGraphics_2021_02-06-02-scaled.jpg
ORGANIZER;CN="Bill Steddum":MAILTO:billsteddum@judgefite.com
END:VEVENT
BEGIN:VEVENT
DTSTART;TZID=America/Chicago:20210112T180000
DTEND;TZID=America/Chicago:20210112T190000
DTSTAMP:20260421T200540
CREATED:20201228T220105Z
LAST-MODIFIED:20201230T191154Z
UID:10000047-1610474400-1610478000@staging.century21judgefite.com
SUMMARY:Virtual Career Event - January 12
DESCRIPTION:It’s time to #JoinTheRelentless at CENTURY 21 Judge Fite Company. Attend our upcoming Virtual Career Event on Tuesday\, January 12 and learn why we’re not only dedicated to providing you award-winning training and individualized support\, but cultivating a work environment to help your business grow and thrive in 2021. \nPlease RSVP for our free\, no-obligation Virtual Career Event through the Zoom link. \nDiscussion Topics Include: \n\nHow much money can you earn?\nWhy do our real estate professional choose us?\nHow much money is needed to start & how to get started?\nLarge office vs small office?\nPart time vs Full time?\nWhy our Success Training breaks national statistics\nHow our Pathway to Mastery Program produces results for all agents\nDetails on our online lead generation\nNetwork with Regional Sales Managers from local offices\nMentorship opportunities
URL:https://staging.century21judgefite.com/event/virtual-career-event-january-12/
CATEGORIES:Career Events
ATTACH;FMTTYPE=image/jpeg:https://staging.century21judgefite.com/wp-content/uploads/2020/12/JFC_CareerEvent_WebsiteGraphics_2021-01-scaled.jpg
ORGANIZER;CN="Bill Steddum":MAILTO:billsteddum@judgefite.com
END:VEVENT
BEGIN:VEVENT
DTSTART;TZID=America/Chicago:20201208T180000
DTEND;TZID=America/Chicago:20201208T190000
DTSTAMP:20260421T200540
CREATED:20201124T194542Z
LAST-MODIFIED:20201124T194542Z
UID:10000046-1607450400-1607454000@staging.century21judgefite.com
SUMMARY:Virtual Career Event - December 8
DESCRIPTION:It’s time to #JoinTheRelentless at CENTURY 21 Judge Fite Company. Attend our upcoming Virtual Career Event on Tuesday\, December 8 and learn why we’re not only dedicated to providing you award-winning training and individualized support\, but cultivating a work environment to help your business grow and thrive in 2020. \nPlease RSVP for our free\, no-obligation Virtual Career Event through the Zoom link. \nDiscussion Topics Include: \n\nHow much money can you earn?\nWhy do our real estate professional choose us?\nHow much money is needed to start & how to get started?\nLarge office vs small office?\nPart time vs Full time?\nWhy our Success Training breaks national statistics\nHow our Pathway to Mastery Program produces results for all agents\nDetails on our online lead generation\nNetwork with Regional Sales Managers from local offices\nMentorship opportunities
URL:https://staging.century21judgefite.com/event/virtual-career-event-december-8/
CATEGORIES:Career Events
ATTACH;FMTTYPE=image/jpeg:https://staging.century21judgefite.com/wp-content/uploads/2020/11/JFC_CareerEvent_PromotionGraphics_2020_Q4-14-scaled.jpg
ORGANIZER;CN="Bill Steddum":MAILTO:billsteddum@judgefite.com
END:VEVENT
BEGIN:VEVENT
DTSTART;TZID=America/Chicago:20201117T180000
DTEND;TZID=America/Chicago:20201117T190000
DTSTAMP:20260421T200540
CREATED:20201103T181735Z
LAST-MODIFIED:20201103T181735Z
UID:10000045-1605636000-1605639600@staging.century21judgefite.com
SUMMARY:Virtual Career Event - November 17
DESCRIPTION:It’s time to #JoinTheRelentless at CENTURY 21 Judge Fite Company. Attend our upcoming Virtual Career Event on Tuesday\, November 17 and learn why we’re not only dedicated to providing you award-winning training and individualized support\, but cultivating a work environment to help your business grow and thrive in 2020. \nPlease RSVP for our free\, no-obligation Virtual Career Event through the Zoom link. \nDiscussion Topics Include: \n\nHow much money can you earn?\nWhy do our real estate professional choose us?\nHow much money is needed to start & how to get started?\nLarge office vs small office?\nPart time vs Full time?\nWhy our Success Training breaks national statistics\nHow our Pathway to Mastery Program produces results for all agents\nDetails on our online lead generation\nNetwork with Regional Sales Managers from local offices\nMentorship opportunities
URL:https://staging.century21judgefite.com/event/virtual-career-event-november-17/
CATEGORIES:Career Events
ATTACH;FMTTYPE=image/jpeg:https://staging.century21judgefite.com/wp-content/uploads/2020/11/JFC_CareerEvent_PromotionGraphics_2020_Q4-13-scaled.jpg
ORGANIZER;CN="Bill Steddum":MAILTO:billsteddum@judgefite.com
END:VEVENT
END:VCALENDAR