BEGIN:VCALENDAR
VERSION:2.0
PRODID:-//CENTURY 21 Judge Fite - ECPv6.15.17//NONSGML v1.0//EN
CALSCALE:GREGORIAN
METHOD:PUBLISH
X-ORIGINAL-URL:https://staging.century21judgefite.com
X-WR-CALDESC:Events for CENTURY 21 Judge Fite
REFRESH-INTERVAL;VALUE=DURATION:PT1H
X-Robots-Tag:noindex
X-PUBLISHED-TTL:PT1H
BEGIN:VTIMEZONE
TZID:America/Chicago
BEGIN:DAYLIGHT
TZOFFSETFROM:-0600
TZOFFSETTO:-0500
TZNAME:CDT
DTSTART:20200308T080000
END:DAYLIGHT
BEGIN:STANDARD
TZOFFSETFROM:-0500
TZOFFSETTO:-0600
TZNAME:CST
DTSTART:20201101T070000
END:STANDARD
BEGIN:DAYLIGHT
TZOFFSETFROM:-0600
TZOFFSETTO:-0500
TZNAME:CDT
DTSTART:20210314T080000
END:DAYLIGHT
BEGIN:STANDARD
TZOFFSETFROM:-0500
TZOFFSETTO:-0600
TZNAME:CST
DTSTART:20211107T070000
END:STANDARD
BEGIN:DAYLIGHT
TZOFFSETFROM:-0600
TZOFFSETTO:-0500
TZNAME:CDT
DTSTART:20220313T080000
END:DAYLIGHT
BEGIN:STANDARD
TZOFFSETFROM:-0500
TZOFFSETTO:-0600
TZNAME:CST
DTSTART:20221106T070000
END:STANDARD
END:VTIMEZONE
BEGIN:VEVENT
DTSTART;TZID=America/Chicago:20211207T180000
DTEND;TZID=America/Chicago:20211207T190000
DTSTAMP:20260421T200702
CREATED:20211123T160502Z
LAST-MODIFIED:20211129T170053Z
UID:10000061-1638900000-1638903600@staging.century21judgefite.com
SUMMARY:Virtual Career Event - December 7
DESCRIPTION:It’s time to #JoinTheRelentless at CENTURY 21 Judge Fite Company. Attend our upcoming Virtual Career Event on Tuesday\, December 7 and learn why we’re not only dedicated to providing you award-winning training and individualized support\, but cultivating a work environment to help your business grow and thrive in 2021. \nPlease RSVP for our free\, no-obligation Virtual Career Event through the Zoom link. \nDiscussion Topics Include: \n\nHow much money can you earn?\nWhy do our real estate professionals choose us?\nHow much money is needed to start & how to get started?\nLarge office vs small office?\nPart time vs Full time?\nWhy our Success Training breaks national statistics\nHow our Pathway to Mastery Program produces results for all agents\nDetails on our online lead generation\nNetwork with Regional Sales Managers from local offices\nMentorship opportunities
URL:https://staging.century21judgefite.com/event/virtual-career-event-december-7/
CATEGORIES:Career Events
ATTACH;FMTTYPE=image/jpeg:https://staging.century21judgefite.com/wp-content/uploads/2021/11/JFC_CareerEvent_WebsiteGraphics_2021_12-07-scaled.jpg
END:VEVENT
END:VCALENDAR