BEGIN:VCALENDAR
VERSION:2.0
PRODID:-//CENTURY 21 Judge Fite - ECPv6.15.17//NONSGML v1.0//EN
CALSCALE:GREGORIAN
METHOD:PUBLISH
X-WR-CALNAME:CENTURY 21 Judge Fite
X-ORIGINAL-URL:https://staging.century21judgefite.com
X-WR-CALDESC:Events for CENTURY 21 Judge Fite
REFRESH-INTERVAL;VALUE=DURATION:PT1H
X-Robots-Tag:noindex
X-PUBLISHED-TTL:PT1H
BEGIN:VTIMEZONE
TZID:America/Chicago
BEGIN:DAYLIGHT
TZOFFSETFROM:-0600
TZOFFSETTO:-0500
TZNAME:CDT
DTSTART:20200308T080000
END:DAYLIGHT
BEGIN:STANDARD
TZOFFSETFROM:-0500
TZOFFSETTO:-0600
TZNAME:CST
DTSTART:20201101T070000
END:STANDARD
BEGIN:DAYLIGHT
TZOFFSETFROM:-0600
TZOFFSETTO:-0500
TZNAME:CDT
DTSTART:20210314T080000
END:DAYLIGHT
BEGIN:STANDARD
TZOFFSETFROM:-0500
TZOFFSETTO:-0600
TZNAME:CST
DTSTART:20211107T070000
END:STANDARD
BEGIN:DAYLIGHT
TZOFFSETFROM:-0600
TZOFFSETTO:-0500
TZNAME:CDT
DTSTART:20220313T080000
END:DAYLIGHT
BEGIN:STANDARD
TZOFFSETFROM:-0500
TZOFFSETTO:-0600
TZNAME:CST
DTSTART:20221106T070000
END:STANDARD
BEGIN:DAYLIGHT
TZOFFSETFROM:-0600
TZOFFSETTO:-0500
TZNAME:CDT
DTSTART:20230312T080000
END:DAYLIGHT
BEGIN:STANDARD
TZOFFSETFROM:-0500
TZOFFSETTO:-0600
TZNAME:CST
DTSTART:20231105T070000
END:STANDARD
BEGIN:DAYLIGHT
TZOFFSETFROM:-0600
TZOFFSETTO:-0500
TZNAME:CDT
DTSTART:20240310T080000
END:DAYLIGHT
BEGIN:STANDARD
TZOFFSETFROM:-0500
TZOFFSETTO:-0600
TZNAME:CST
DTSTART:20241103T070000
END:STANDARD
END:VTIMEZONE
BEGIN:VEVENT
DTSTART;TZID=America/Chicago:20230506T090000
DTEND;TZID=America/Chicago:20230506T100000
DTSTAMP:20260421T202006
CREATED:20230328T185035Z
LAST-MODIFIED:20230328T185110Z
UID:10000083-1683363600-1683367200@staging.century21judgefite.com
SUMMARY:Virtual Career Event - May 6
DESCRIPTION:RSVP through the Zoom link here.\nFor you to be the best\, you must be with the best. Attend our upcoming Virtual Career Event on May 6 at 9AM and learn why CENTURY 21 Judge Fite Company is not only dedicated to providing you award-winning training and individualized support\, but cultivating a work environment to help your business grow and thrive. \nDiscussion Topics Include:\n• How much money can you earn?\n• Why do our real estate professional choose the No. 1 Place to Work?\n• How much money is needed to start & how do you get started?\n• Large office vs. small office?\n• Part-time vs. full-time?\n• Why does our Success Training break national statistics?\n• How do our training and coaching programs produce results for all agents?\n• What websites\, CRMs and marketing tools does the brokerage provide?\n• What networking opportunities with Regional Sales Managers from local offices do you have?\n• What mentorship opportunities are available?\n• What global referral opportunities are available for your friends and family?
URL:https://staging.century21judgefite.com/event/virtual-career-event-may-6/
CATEGORIES:Career Events
ATTACH;FMTTYPE=image/jpeg:https://staging.century21judgefite.com/wp-content/uploads/2023/03/JFC_CareerEvent_WebsiteGraphics_2023-06-scaled.jpg
END:VEVENT
BEGIN:VEVENT
DTSTART;TZID=America/Chicago:20230131T180000
DTEND;TZID=America/Chicago:20230131T190000
DTSTAMP:20260421T202006
CREATED:20230117T220245Z
LAST-MODIFIED:20230117T220245Z
UID:10000079-1675188000-1675191600@staging.century21judgefite.com
SUMMARY:Virtual Career Event - January 31
DESCRIPTION:RSVP through the Zoom link here.\nFor you to be the best\, you must be with the best. Attend our upcoming Virtual Career Event on January 31 at 6PM and learn why CENTURY 21 Judge Fite Company is not only dedicated to providing you award-winning training and individualized support\, but cultivating a work environment to help your business grow and thrive. \nDiscussion Topics Include:\n• How much money can you earn?\n• Why do our real estate professional choose the No. 1 Place to Work?\n• How much money is needed to start & how do you get started?\n• Large office vs. small office?\n• Part-time vs. full-time?\n• Why does our Success Training break national statistics?\n• How do our training and coaching programs produce results for all agents?\n• What websites\, CRMs and marketing tools does the brokerage provide?\n• What networking opportunities with Regional Sales Managers from local offices do you have?\n• What mentorship opportunities are available?\n• What global referral opportunities are available for your friends and family?
URL:https://staging.century21judgefite.com/event/virtual-career-event-january-31/
CATEGORIES:Career Events
ATTACH;FMTTYPE=image/jpeg:https://staging.century21judgefite.com/wp-content/uploads/2023/01/JFC_CareerEvent_WebsiteGraphics_2023-02-scaled.jpg
END:VEVENT
BEGIN:VEVENT
DTSTART;TZID=America/Chicago:20230110T180000
DTEND;TZID=America/Chicago:20230110T190000
DTSTAMP:20260421T202006
CREATED:20221222T181148Z
LAST-MODIFIED:20221222T181148Z
UID:10000078-1673373600-1673377200@staging.century21judgefite.com
SUMMARY:Virtual Career Event - January 10
DESCRIPTION:RSVP through the Zoom link here.\nFor you to be the best\, you must be with the best. Attend our upcoming Virtual Career Event on January 10 at 6PM and learn why CENTURY 21 Judge Fite Company is not only dedicated to providing you award-winning training and individualized support\, but cultivating a work environment to help your business grow and thrive. \nDiscussion Topics Include:\n• How much money can you earn?\n• Why do our real estate professional choose the No. 1 Place to Work?\n• How much money is needed to start & how do you get started?\n• Large office vs. small office?\n• Part-time vs. full-time?\n• Why does our Success Training break national statistics?\n• How do our training and coaching programs produce results for all agents?\n• What websites\, CRMs and marketing tools does the brokerage provide?\n• What networking opportunities with Regional Sales Managers from local offices do you have?\n• What mentorship opportunities are available?\n• What global referral opportunities are available for your friends and family?
URL:https://staging.century21judgefite.com/event/virtual-career-event-january-10/
CATEGORIES:Career Events
ATTACH;FMTTYPE=image/jpeg:https://staging.century21judgefite.com/wp-content/uploads/2022/12/JFC_CareerEvent_WebsiteGraphics_2023_01-10-scaled.jpg
END:VEVENT
BEGIN:VEVENT
DTSTART;TZID=America/Chicago:20221011T180000
DTEND;TZID=America/Chicago:20221011T190000
DTSTAMP:20260421T202006
CREATED:20220926T190101Z
LAST-MODIFIED:20220926T190101Z
UID:10000075-1665511200-1665514800@staging.century21judgefite.com
SUMMARY:Virtual Career Event - October 11
DESCRIPTION:It’s time to join the No. 1 Place to Work in DFW. Attend our upcoming Virtual Career Event on Tuesday\, October 11 at 6PM and learn why CENTURY 21 Judge Fite Company is not only dedicated to providing you award-winning training and individualized support\, but cultivating a work environment to help your business grow and thrive. \nPlease RSVP for our free\, no-obligation Virtual Career Event through the Zoom link. \nDiscussion Topics Include: \n\nHow much money can you earn?\nWhy do our real estate professional choose us?\nHow much money is needed to start & how to get started?\nLarge office vs small office?\nPart time vs Full time?\nWhy our Success Training breaks national statistics\nHow our Pathway to Mastery Program produces results for all agents\nDetails on our online lead generation\nNetwork with Regional Sales Managers from local offices\nMentorship opportunities
URL:https://staging.century21judgefite.com/event/virtual-career-event-october-11/
CATEGORIES:Career Events
ATTACH;FMTTYPE=image/jpeg:https://staging.century21judgefite.com/wp-content/uploads/2022/09/JFC_CareerEvent_WebsiteGraphics_2022-12-scaled.jpg
END:VEVENT
BEGIN:VEVENT
DTSTART;TZID=America/Chicago:20221008T180000
DTEND;TZID=America/Chicago:20221009T000000
DTSTAMP:20260421T202006
CREATED:20220830T000842Z
LAST-MODIFIED:20220830T000927Z
UID:10000073-1665252000-1665273600@staging.century21judgefite.com
SUMMARY:24th Annual Boots & BBQ benefiting Easterseals North Texas
DESCRIPTION:CENTURY 21 Judge Fite Company is thrilled to announce the return of our 24th Annual Boots & BBQ event benefiting Easterseals North Texas on Saturday\, October 8 at Gilley’s Dallas.\n\nWith more opportunities to win big and give big\, you won’t want to miss out on the chance to make a difference in the lives of those living with disabilities and other special needs across North Texas. Buy your event ticket today at www.eastersealsnorthtexasbbq.com.\n\nOur Boots & BBQ event has something for everyone\, including a legendary live auction\, silent auction\, raffle\, casino games\, live music and a BBQ dinner.\n\nCENTURY 21 Judge Fite Company’s dedication to serving our communities goes beyond real estate. Giving back to those in need is an important part of our company’s mission\, and we are proud to be the #2 CENTURY 21® franchise fundraiser for Easterseals in the United States.
URL:https://staging.century21judgefite.com/event/24th-annual-boots-bbq-benefiting-easterseals-north-texas/
LOCATION:Gilley’s Dallas\, 1135 Botham Jean Blvd\, Dallas\, TX\, 75215\, United States
CATEGORIES:Company Events
ATTACH;FMTTYPE=image/jpeg:https://staging.century21judgefite.com/wp-content/uploads/2022/08/Boots_2022_ActivePipe_SaveTheDate-01-scaled.jpg
END:VEVENT
BEGIN:VEVENT
DTSTART;TZID=America/Chicago:20220709T090000
DTEND;TZID=America/Chicago:20220709T100000
DTSTAMP:20260421T202006
CREATED:20220623T182949Z
LAST-MODIFIED:20220623T182949Z
UID:10000070-1657357200-1657360800@staging.century21judgefite.com
SUMMARY:Virtual Career Event - July 9
DESCRIPTION:It’s time to join the No. 1 Place to Work in DFW. Attend our upcoming Virtual Career Event on Saturday\, July 9 at 9AM and learn why CENTURY 21 Judge Fite Company is not only dedicated to providing you award-winning training and individualized support\, but cultivating a work environment to help your business grow and thrive. \nPlease RSVP for our free\, no-obligation Virtual Career Event through the Zoom link. \nDiscussion Topics Include: \n\nHow much money can you earn?\nWhy do our real estate professional choose us?\nHow much money is needed to start & how to get started?\nLarge office vs small office?\nPart time vs Full time?\nWhy our Success Training breaks national statistics\nHow our Pathway to Mastery Program produces results for all agents\nDetails on our online lead generation\nNetwork with Regional Sales Managers from local offices\nMentorship opportunities
URL:https://staging.century21judgefite.com/event/virtual-career-event-july-9/
CATEGORIES:Career Events
ATTACH;FMTTYPE=image/jpeg:https://staging.century21judgefite.com/wp-content/uploads/2022/06/JFC_CareerEvent_WebsiteGraphics_2022-08-scaled.jpg
END:VEVENT
BEGIN:VEVENT
DTSTART;TZID=America/Chicago:20220607T180000
DTEND;TZID=America/Chicago:20220607T190000
DTSTAMP:20260421T202006
CREATED:20220523T230924Z
LAST-MODIFIED:20220523T230924Z
UID:10000069-1654624800-1654628400@staging.century21judgefite.com
SUMMARY:Virtual Career Event - June 7
DESCRIPTION:It’s time to join the No. 1 Place to Work in DFW. Attend our upcoming Virtual Career Event on Tuesday\, June 7 at 6PM and learn why CENTURY 21 Judge Fite Company is not only dedicated to providing you award-winning training and individualized support\, but cultivating a work environment to help your business grow and thrive. \nPlease RSVP for our free\, no-obligation Virtual Career Event through the Zoom link. \nDiscussion Topics Include: \n\nHow much money can you earn?\nWhy do our real estate professional choose us?\nHow much money is needed to start & how to get started?\nLarge office vs small office?\nPart time vs Full time?\nWhy our Success Training breaks national statistics\nHow our Pathway to Mastery Program produces results for all agents\nDetails on our online lead generation\nNetwork with Regional Sales Managers from local offices\nMentorship opportunities
URL:https://staging.century21judgefite.com/event/virtual-career-event-june-7/
CATEGORIES:Career Events
ATTACH;FMTTYPE=image/jpeg:https://staging.century21judgefite.com/wp-content/uploads/2022/05/JFC_CareerEvent_WebsiteGraphics_2022-07-scaled.jpg
END:VEVENT
BEGIN:VEVENT
DTSTART;TZID=America/Chicago:20220517T180000
DTEND;TZID=America/Chicago:20220517T190000
DTSTAMP:20260421T202006
CREATED:20220427T195113Z
LAST-MODIFIED:20220503T194256Z
UID:10000068-1652810400-1652814000@staging.century21judgefite.com
SUMMARY:Virtual Career Event - May 17
DESCRIPTION:It’s time to join the No. 1 Place to Work in DFW. Attend our upcoming Virtual Career Event on Tuesday\, May 17 at 6PM and learn why CENTURY 21 Judge Fite Company is not only dedicated to providing you award-winning training and individualized support\, but cultivating a work environment to help your business grow and thrive. \nPlease RSVP for our free\, no-obligation Virtual Career Event through the Zoom link. \nDiscussion Topics Include: \n\nHow much money can you earn?\nWhy do our real estate professional choose us?\nHow much money is needed to start & how to get started?\nLarge office vs small office?\nPart time vs Full time?\nWhy our Success Training breaks national statistics\nHow our Pathway to Mastery Program produces results for all agents\nDetails on our online lead generation\nNetwork with Regional Sales Managers from local offices\nMentorship opportunities
URL:https://staging.century21judgefite.com/event/virtual-career-event-may-17/
CATEGORIES:Career Events
ATTACH;FMTTYPE=image/jpeg:https://staging.century21judgefite.com/wp-content/uploads/2022/04/JFC_CareerEvent_WebsiteGraphics_2022-06-scaled.jpg
END:VEVENT
BEGIN:VEVENT
DTSTART;TZID=America/Chicago:20220405T180000
DTEND;TZID=America/Chicago:20220405T190000
DTSTAMP:20260421T202006
CREATED:20220324T190048Z
LAST-MODIFIED:20220324T190048Z
UID:10000066-1649181600-1649185200@staging.century21judgefite.com
SUMMARY:Virtual Career Event - April 5
DESCRIPTION:It’s time to join the No. 1 Place to Work in DFW. Attend our upcoming Virtual Career Event on Tuesday\, April 5 at 6PM and learn why CENTURY 21 Judge Fite Company is not only dedicated to providing you award-winning training and individualized support\, but cultivating a work environment to help your business grow and thrive. \nPlease RSVP for our free\, no-obligation Virtual Career Event here. \nDiscussion Topics Include: \n\nHow much money can you earn?\nWhy do our real estate professional choose us?\nHow much money is needed to start & how to get started?\nLarge office vs small office?\nPart time vs Full time?\nWhy our Success Training breaks national statistics\nHow our Pathway to Mastery Program produces results for all agents\nDetails on our online lead generation\nNetwork with Regional Sales Managers from local offices\nMentorship opportunities
URL:https://staging.century21judgefite.com/event/virtual-career-event-april-5/
CATEGORIES:Career Events
ATTACH;FMTTYPE=image/jpeg:https://staging.century21judgefite.com/wp-content/uploads/2022/03/JFC_CareerEvent_WebsiteGraphics_2022-04-scaled.jpg
END:VEVENT
BEGIN:VEVENT
DTSTART;TZID=America/Chicago:20220315T180000
DTEND;TZID=America/Chicago:20220315T190000
DTSTAMP:20260421T202006
CREATED:20220301T160142Z
LAST-MODIFIED:20220301T160142Z
UID:10000065-1647367200-1647370800@staging.century21judgefite.com
SUMMARY:Virtual Career Event - March 15
DESCRIPTION:It’s time to join the No. 1 Place to Work in DFW. Attend our upcoming Virtual Career Event on Tuesday\, March 15 at 6PM and learn why CENTURY 21 Judge Fite Company is not only dedicated to providing you award-winning training and individualized support\, but cultivating a work environment to help your business grow and thrive. \nPlease RSVP for our free\, no-obligation Virtual Career Event here. \nDiscussion Topics Include: \n\nHow much money can you earn?\nWhy do our real estate professional choose us?\nHow much money is needed to start & how to get started?\nLarge office vs small office?\nPart time vs Full time?\nWhy our Success Training breaks national statistics\nHow our Pathway to Mastery Program produces results for all agents\nDetails on our online lead generation\nNetwork with Regional Sales Managers from local offices\nMentorship opportunities
URL:https://staging.century21judgefite.com/event/virtual-career-event-march-15/
CATEGORIES:Career Events
ATTACH;FMTTYPE=image/jpeg:https://staging.century21judgefite.com/wp-content/uploads/2022/03/JFC_CareerEvent_WebsiteGraphics_2022-03-scaled.jpg
END:VEVENT
BEGIN:VEVENT
DTSTART;TZID=America/Chicago:20220226T090000
DTEND;TZID=America/Chicago:20220226T100000
DTSTAMP:20260421T202006
CREATED:20220210T181733Z
LAST-MODIFIED:20220210T181733Z
UID:10000064-1645866000-1645869600@staging.century21judgefite.com
SUMMARY:Virtual Career Event - February 26
DESCRIPTION:It’s time to join the No. 1 Place to Work in DFW. Attend our upcoming Virtual Career Event on Saturday\, February 26 at 9AM and learn why CENTURY 21 Judge Fite Company is not only dedicated to providing you award-winning training and individualized support\, but cultivating a work environment to help your business grow and thrive. \nPlease RSVP for our free\, no-obligation Virtual Career Event here. \nDiscussion Topics Include: \n\nHow much money can you earn?\nWhy do our real estate professionals choose us?\nHow much money is needed to start & how to get started?\nLarge office vs small office?\nPart-time vs Full time?\nWhy our Success Training breaks national statistics\nHow our Pathway to Mastery Program produces results for all agents\nDetails on our online lead generation\nNetwork with Regional Sales Managers from local offices\nMentorship opportunities
URL:https://staging.century21judgefite.com/event/virtual-career-event-february-26/
CATEGORIES:Career Events
ATTACH;FMTTYPE=image/jpeg:https://staging.century21judgefite.com/wp-content/uploads/2022/02/JFC_CareerEvent_WebsiteGraphics_2022-02-scaled.jpg
END:VEVENT
BEGIN:VEVENT
DTSTART;TZID=America/Chicago:20220201T180000
DTEND;TZID=America/Chicago:20220201T190000
DTSTAMP:20260421T202006
CREATED:20220119T010036Z
LAST-MODIFIED:20220119T010721Z
UID:10000063-1643738400-1643742000@staging.century21judgefite.com
SUMMARY:Virtual Career Event - February 1
DESCRIPTION:It’s time to join the No. 1 Place to Work in DFW. Attend our upcoming Virtual Career Event on Tuesday\, February 1 at 6PM and learn why CENTURY 21 Judge Fite Company is not only dedicated to providing you award-winning training and individualized support\, but cultivating a work environment to help your business grow and thrive. \nPlease RSVP for our free\, no-obligation Virtual Career Event here. \nDiscussion Topics Include: \n\nHow much money can you earn?\nWhy do our real estate professional choose us?\nHow much money is needed to start & how to get started?\nLarge office vs small office?\nPart time vs Full time?\nWhy our Success Training breaks national statistics\nHow our Pathway to Mastery Program produces results for all agents\nDetails on our online lead generation\nNetwork with Regional Sales Managers from local offices\nMentorship opportunities
URL:https://staging.century21judgefite.com/event/virtual-career-event-february-1/
CATEGORIES:Career Events
ATTACH;FMTTYPE=image/jpeg:https://staging.century21judgefite.com/wp-content/uploads/2022/01/JFC_CareerEvent_WebsiteGraphics_2022-01-scaled.jpg
END:VEVENT
BEGIN:VEVENT
DTSTART;TZID=America/Chicago:20220111T180000
DTEND;TZID=America/Chicago:20220111T190000
DTSTAMP:20260421T202006
CREATED:20211228T222211Z
LAST-MODIFIED:20211228T222211Z
UID:10000062-1641924000-1641927600@staging.century21judgefite.com
SUMMARY:Virtual Career Event - January 11
DESCRIPTION:It’s time to #JoinTheRelentless at CENTURY 21 Judge Fite Company. Attend our upcoming Virtual Career Event on Tuesday\, January 11 and learn why we’re not only dedicated to providing you award-winning training and individualized support\, but cultivating a work environment to help your business grow and thrive in 2021. \nPlease RSVP for our free\, no-obligation Virtual Career Event through the Zoom link. \nDiscussion Topics Include: \n\nHow much money can you earn?\nWhy do our real estate professionals choose us?\nHow much money is needed to start & how to get started?\nLarge office vs small office?\nPart time vs Full time?\nWhy our Success Training breaks national statistics\nHow our Pathway to Mastery Program produces results for all agents\nDetails on our online lead generation\nNetwork with Regional Sales Managers from local offices\nMentorship opportunities
URL:https://staging.century21judgefite.com/event/virtual-career-event-january-11/
CATEGORIES:Career Events
ATTACH;FMTTYPE=image/jpeg:https://staging.century21judgefite.com/wp-content/uploads/2021/12/JFC_CareerEvent_WebsiteGraphics_2022_01-11-15-scaled.jpg
END:VEVENT
BEGIN:VEVENT
DTSTART;TZID=America/Chicago:20210925T180000
DTEND;TZID=America/Chicago:20210926T000000
DTSTAMP:20260421T202006
CREATED:20210802T205519Z
LAST-MODIFIED:20210802T205722Z
UID:10000056-1632592800-1632614400@staging.century21judgefite.com
SUMMARY:23rd Annual Boots & BBQ benefiting Easterseals North Texas
DESCRIPTION:CENTURY 21 Judge Fite Company is thrilled to announce the return of our 23rd Annual Boots & BBQ event benefiting Easterseals North Texas on Saturday\, September 25 at Gilley’s Dallas. With more opportunities to win big and give big\, you won’t want to miss out on the chance to make a difference in the lives of those living with disabilities and other special needs across North Texas. Buy your event ticket today through the event website here. Our Boots & BBQ event has something for everyone\, including a legendary live auction\, silent auction\, casino games\, live music and a BBQ dinner. The crowd-favorite raffle will be back and better than ever\, so you’ll want to buy your virtual raffle tickets (coming soon on the website). For all things Boots & BBQ\, visit www.eastersealsnorthtexasbbq.com.
URL:https://staging.century21judgefite.com/event/boots-bbq-2021/
ATTACH;FMTTYPE=image/jpeg:https://staging.century21judgefite.com/wp-content/uploads/2021/08/BootsBBQ_EventCover-01-scaled.jpg
END:VEVENT
END:VCALENDAR